BEGIN:VCALENDAR
VERSION:2.0
PRODID:-//Community Care City of Kawartha Lakes - ECPv6.15.20//NONSGML v1.0//EN
CALSCALE:GREGORIAN
METHOD:PUBLISH
X-ORIGINAL-URL:https://njg-ccckl.thedev.ca
X-WR-CALDESC:Events for Community Care City of Kawartha Lakes
REFRESH-INTERVAL;VALUE=DURATION:PT1H
X-Robots-Tag:noindex
X-PUBLISHED-TTL:PT1H
BEGIN:VTIMEZONE
TZID:America/Toronto
BEGIN:DAYLIGHT
TZOFFSETFROM:-0500
TZOFFSETTO:-0400
TZNAME:EDT
DTSTART:20240310T070000
END:DAYLIGHT
BEGIN:STANDARD
TZOFFSETFROM:-0400
TZOFFSETTO:-0500
TZNAME:EST
DTSTART:20241103T060000
END:STANDARD
BEGIN:DAYLIGHT
TZOFFSETFROM:-0500
TZOFFSETTO:-0400
TZNAME:EDT
DTSTART:20250309T070000
END:DAYLIGHT
BEGIN:STANDARD
TZOFFSETFROM:-0400
TZOFFSETTO:-0500
TZNAME:EST
DTSTART:20251102T060000
END:STANDARD
BEGIN:DAYLIGHT
TZOFFSETFROM:-0500
TZOFFSETTO:-0400
TZNAME:EDT
DTSTART:20260308T070000
END:DAYLIGHT
BEGIN:STANDARD
TZOFFSETFROM:-0400
TZOFFSETTO:-0500
TZNAME:EST
DTSTART:20261101T060000
END:STANDARD
END:VTIMEZONE
BEGIN:VEVENT
DTSTART;TZID=America/Toronto:20251002T120000
DTEND;TZID=America/Toronto:20251002T140000
DTSTAMP:20260421T092849
CREATED:20230726T183846Z
LAST-MODIFIED:20230726T183846Z
UID:7533-1759406400-1759413600@njg-ccckl.thedev.ca
SUMMARY:Diners Club (Bethany)
DESCRIPTION:Join us for some great food in good company! \n\n\n\nPre-registration is required and doors open at noon. Please call us at 705-324-7323 ext. 654 to reserve your spot!
URL:https://njg-ccckl.thedev.ca/events/bethany-diners-club-2025-10-02/
LOCATION:Bethany United Church\, 3 George St\, Bethany\, Ontario\, L0A 1A0\, Canada
END:VEVENT
BEGIN:VEVENT
DTSTART;TZID=America/Toronto:20251007T120000
DTEND;TZID=America/Toronto:20251007T140000
DTSTAMP:20260421T092849
CREATED:20221026T143705Z
LAST-MODIFIED:20221026T143705Z
UID:7534-1759838400-1759845600@njg-ccckl.thedev.ca
SUMMARY:Diners' Club (Lindsay)
DESCRIPTION:Join us for some great food in good company! \n\n\n\nPre-registration is required and doors open at noon. Please call us at 705-324-7323 ext. 654 to reserve your spot!
URL:https://njg-ccckl.thedev.ca/events/diners-club-11-2025-10-07/
LOCATION:65 Melbourne St W\, 65 Melbourne St W\, Lindsay\, Ontario\, K9V 0G4\, Canada
CATEGORIES:Diner's Club
END:VEVENT
BEGIN:VEVENT
DTSTART;TZID=America/Toronto:20251014T120000
DTEND;TZID=America/Toronto:20251014T140000
DTSTAMP:20260421T092849
CREATED:20221205T163916Z
LAST-MODIFIED:20221205T163916Z
UID:7535-1760443200-1760450400@njg-ccckl.thedev.ca
SUMMARY:Diners' Club (Fenelon Falls)
DESCRIPTION:Join us for some great food in good company! \n\n\n\nPre-registration is required and doors open at noon. Please call us at 705-324-7323 ext. 654 to reserve your spot!
URL:https://njg-ccckl.thedev.ca/events/diners-club-fenelon-falls-2025-10-14/
LOCATION:70 Murray St\, 70 Murray St\, Fenelon Falls\, Ontario\, K0M 1N0\, Canada
CATEGORIES:Diner's Club
END:VEVENT
BEGIN:VEVENT
DTSTART;TZID=America/Toronto:20251016T120000
DTEND;TZID=America/Toronto:20251016T140000
DTSTAMP:20260421T092849
CREATED:20221205T171748Z
LAST-MODIFIED:20221205T171748Z
UID:7536-1760616000-1760623200@njg-ccckl.thedev.ca
SUMMARY:Diners' Club (Burnt River)
DESCRIPTION:Join us for some great food in good company! \n\n\n\nPre-registration is required and doors open at noon. Please call us at 705-324-7323 ext. 654 to reserve your spot!
URL:https://njg-ccckl.thedev.ca/events/diners-club-burnt-river-2025-10-16/
LOCATION:Burnt River Somerville Centre\, 16 Somerville Centre Rd\, Burnt River\, Ontario\, K0M1C0\, Canada
CATEGORIES:Diner's Club
END:VEVENT
BEGIN:VEVENT
DTSTART;TZID=America/Toronto:20251021T120000
DTEND;TZID=America/Toronto:20251021T140000
DTSTAMP:20260421T092849
CREATED:20221205T170845Z
LAST-MODIFIED:20221205T170845Z
UID:7538-1761048000-1761055200@njg-ccckl.thedev.ca
SUMMARY:Diners' Club (Lindsay)
DESCRIPTION:Join us for some great food in good company! \n\n\n\nPre-registration is required and doors open at noon. Please call us at 705-324-7323 ext. 654 to reserve your spot!
URL:https://njg-ccckl.thedev.ca/events/diners-club-lindsay-2025-10-21/
LOCATION:65 Melbourne St W\, 65 Melbourne St W\, Lindsay\, Ontario\, K9V 0G4\, Canada
CATEGORIES:Diner's Club
END:VEVENT
BEGIN:VEVENT
DTSTART;TZID=America/Toronto:20251021T130000
DTEND;TZID=America/Toronto:20251021T160000
DTSTAMP:20260421T092849
CREATED:20221128T211733Z
LAST-MODIFIED:20221128T211733Z
UID:7537-1761051600-1761062400@njg-ccckl.thedev.ca
SUMMARY:Good Food Box
DESCRIPTION:
URL:https://njg-ccckl.thedev.ca/events/good-food-box-2025-10-21/
LOCATION:Ontario
END:VEVENT
BEGIN:VEVENT
DTSTART;TZID=America/Toronto:20251023T120000
DTEND;TZID=America/Toronto:20251023T140000
DTSTAMP:20260421T092849
CREATED:20230726T184246Z
LAST-MODIFIED:20230726T184246Z
UID:7539-1761220800-1761228000@njg-ccckl.thedev.ca
SUMMARY:Diners Club (Coboconk)
DESCRIPTION:Join us for some great food in good company! \n\n\n\nPre-registration is required and doors open at noon. Please call us at 705-324-7323 ext. 654 to reserve your spot!
URL:https://njg-ccckl.thedev.ca/events/diners-club-coboconk-2025-10-23/
LOCATION:Coboconk Community Centre\, 9 Grandy Rd\, Coboconk\, Ontario\, k0M 1K0\, Canada
END:VEVENT
BEGIN:VEVENT
DTSTART;TZID=America/Toronto:20251028T120000
DTEND;TZID=America/Toronto:20251028T140000
DTSTAMP:20260421T092849
CREATED:20221205T164816Z
LAST-MODIFIED:20221205T164816Z
UID:7540-1761652800-1761660000@njg-ccckl.thedev.ca
SUMMARY:Diners' Club (Fenelon Falls)
DESCRIPTION:Join us for some great food in good company! \n\n\n\nPre-registration is required and doors open at noon. Please call us at 705-324-7323 ext. 654 to reserve your spot!
URL:https://njg-ccckl.thedev.ca/events/diners-club-fenelon-falls-2-2025-10-28/
LOCATION:70 Murray St\, 70 Murray St\, Fenelon Falls\, Ontario\, K0M 1N0\, Canada
CATEGORIES:Diner's Club
END:VEVENT
END:VCALENDAR